BEGIN:VCALENDAR
VERSION:2.0
PRODID:-//Ziegler Winery - ECPv6.15.20//NONSGML v1.0//EN
CALSCALE:GREGORIAN
METHOD:PUBLISH
X-ORIGINAL-URL:https://www.zieglerwinery.com
X-WR-CALDESC:Events for Ziegler Winery
REFRESH-INTERVAL;VALUE=DURATION:PT1H
X-Robots-Tag:noindex
X-PUBLISHED-TTL:PT1H
BEGIN:VTIMEZONE
TZID:America/Chicago
BEGIN:DAYLIGHT
TZOFFSETFROM:-0600
TZOFFSETTO:-0500
TZNAME:CDT
DTSTART:20250309T080000
END:DAYLIGHT
BEGIN:STANDARD
TZOFFSETFROM:-0500
TZOFFSETTO:-0600
TZNAME:CST
DTSTART:20251102T070000
END:STANDARD
BEGIN:DAYLIGHT
TZOFFSETFROM:-0600
TZOFFSETTO:-0500
TZNAME:CDT
DTSTART:20260308T080000
END:DAYLIGHT
BEGIN:STANDARD
TZOFFSETFROM:-0500
TZOFFSETTO:-0600
TZNAME:CST
DTSTART:20261101T070000
END:STANDARD
BEGIN:DAYLIGHT
TZOFFSETFROM:-0600
TZOFFSETTO:-0500
TZNAME:CDT
DTSTART:20270314T080000
END:DAYLIGHT
BEGIN:STANDARD
TZOFFSETFROM:-0500
TZOFFSETTO:-0600
TZNAME:CST
DTSTART:20271107T070000
END:STANDARD
END:VTIMEZONE
BEGIN:VEVENT
DTSTART;TZID=America/Chicago:20260726T140000
DTEND;TZID=America/Chicago:20260726T170000
DTSTAMP:20260424T101905
CREATED:20251031T141239Z
LAST-MODIFIED:20260416T192124Z
UID:3986-1785074400-1785085200@www.zieglerwinery.com
SUMMARY:Tinker Boys
DESCRIPTION:  \nMelding influences of traditional Irish\, American country and bluegrass\, contemporary pop and rock\, and folk strains\, the Tinker Boys create a sound that has something for all followers of acoustic music. By using their multi-instrumentalist talents\, they are able to perform heavy beat polkas to hills music\, popular covers and classics\, and driving modern acoustic rhythms.
URL:https://www.zieglerwinery.com/event/tinker-boys/
LOCATION:Ziegler Winery\, W3953 Winnebago Heights Road\, Malone\, WI\, 53049\, United States
END:VEVENT
BEGIN:VEVENT
DTSTART;TZID=America/Chicago:20260731T170000
DTEND;TZID=America/Chicago:20260731T200000
DTSTAMP:20260424T101905
CREATED:20250717T171405Z
LAST-MODIFIED:20260416T192319Z
UID:3892-1785517200-1785528000@www.zieglerwinery.com
SUMMARY:Brian James
DESCRIPTION:Brian is a pianist and vocalist\, Brian takes advantage of technology to provide “four-piece sound with a one-piece footprint”. Brian uses backing tracks\, a vocal harmonizer\, and Bose sound equipment to give his clients that full sound usually reserved for much larger bands. With over one-thousand songs in his repertoire\, Brian can cater his music to any event.
URL:https://www.zieglerwinery.com/event/brian-james-2/
LOCATION:WI
ATTACH;FMTTYPE=image/jpeg:https://www.zieglerwinery.com/wp-content/uploads/2020/03/Brian-James.jpg
END:VEVENT
END:VCALENDAR