BEGIN:VCALENDAR
VERSION:2.0
PRODID:-//Ziegler Winery - ECPv6.15.20//NONSGML v1.0//EN
CALSCALE:GREGORIAN
METHOD:PUBLISH
X-ORIGINAL-URL:https://www.zieglerwinery.com
X-WR-CALDESC:Events for Ziegler Winery
REFRESH-INTERVAL;VALUE=DURATION:PT1H
X-Robots-Tag:noindex
X-PUBLISHED-TTL:PT1H
BEGIN:VTIMEZONE
TZID:America/Chicago
BEGIN:DAYLIGHT
TZOFFSETFROM:-0600
TZOFFSETTO:-0500
TZNAME:CDT
DTSTART:20250309T080000
END:DAYLIGHT
BEGIN:STANDARD
TZOFFSETFROM:-0500
TZOFFSETTO:-0600
TZNAME:CST
DTSTART:20251102T070000
END:STANDARD
BEGIN:DAYLIGHT
TZOFFSETFROM:-0600
TZOFFSETTO:-0500
TZNAME:CDT
DTSTART:20260308T080000
END:DAYLIGHT
BEGIN:STANDARD
TZOFFSETFROM:-0500
TZOFFSETTO:-0600
TZNAME:CST
DTSTART:20261101T070000
END:STANDARD
BEGIN:DAYLIGHT
TZOFFSETFROM:-0600
TZOFFSETTO:-0500
TZNAME:CDT
DTSTART:20270314T080000
END:DAYLIGHT
BEGIN:STANDARD
TZOFFSETFROM:-0500
TZOFFSETTO:-0600
TZNAME:CST
DTSTART:20271107T070000
END:STANDARD
END:VTIMEZONE
BEGIN:VEVENT
DTSTART;TZID=America/Chicago:20260307T150000
DTEND;TZID=America/Chicago:20260307T180000
DTSTAMP:20260420T071208
CREATED:20251231T022639Z
LAST-MODIFIED:20251231T022730Z
UID:4024-1772895600-1772906400@www.zieglerwinery.com
SUMMARY:Logan Spicer
DESCRIPTION:Originally from Alabama\, Logan Spicer and is keeping country music alive playing all over WI and bringing that Southern sound up North with every show. With influences from Merle Haggard to Chris Stapleton\, he sings with soul and grit a guitar in hand-doing what he loves!
URL:https://www.zieglerwinery.com/event/4024/
LOCATION:Ziegler Winery\, W3953 Winnebago Heights Road\, Malone\, WI\, 53049\, United States
END:VEVENT
BEGIN:VEVENT
DTSTART;TZID=America/Chicago:20260313T170000
DTEND;TZID=America/Chicago:20260313T200000
DTSTAMP:20260420T071208
CREATED:20230221T032302Z
LAST-MODIFIED:20251231T023001Z
UID:3142-1773421200-1773432000@www.zieglerwinery.com
SUMMARY:Tweed - Irish Band
DESCRIPTION:  \nJoin our very own Wine-tender\, Jeff with his band playing a night of Irish tunes to celebrate the Luck of the Irish!
URL:https://www.zieglerwinery.com/event/st-paddys-irish-trio/
LOCATION:Ziegler Winery\, W3953 Winnebago Heights Road\, Malone\, WI\, 53049\, United States
ATTACH;FMTTYPE=image/jpeg:https://www.zieglerwinery.com/wp-content/uploads/2023/02/Tweed-scaled.jpg
END:VEVENT
BEGIN:VEVENT
DTSTART;TZID=America/Chicago:20260314T150000
DTEND;TZID=America/Chicago:20260314T180000
DTSTAMP:20260420T071208
CREATED:20250728T230405Z
LAST-MODIFIED:20260114T131740Z
UID:3909-1773500400-1773511200@www.zieglerwinery.com
SUMMARY:Sam Rodewald
DESCRIPTION:Playing fun 80’s acoustic covers with an indie-pop vibe including artists such as Talking Heads\, Prince\, Cyndi Lauper\, Phil Collins\, David Bowie\, and more!
URL:https://www.zieglerwinery.com/event/sam-rodewald/
LOCATION:Ziegler Winery\, W3953 Winnebago Heights Road\, Malone\, WI\, 53049\, United States
END:VEVENT
BEGIN:VEVENT
DTSTART;TZID=America/Chicago:20260321T150000
DTEND;TZID=America/Chicago:20260321T180000
DTSTAMP:20260420T071208
CREATED:20251231T024836Z
LAST-MODIFIED:20251231T234119Z
UID:4030-1774105200-1774116000@www.zieglerwinery.com
SUMMARY:The Down Glow (Mini Road Trip Band)
DESCRIPTION:  \n  \n                                                                                     The Mini Road Trip Band – Amy Jo and the Down Glow create an incredible\, danceable\, sing along fun filled evening you will not forget. With two acoustic guitars and Amy Jo singing big hit cover songs\, you’ve got the most fun party in Wisconsin.
URL:https://www.zieglerwinery.com/event/the-down-glow-mini-road-trip-band/
LOCATION:Ziegler Winery\, W3953 Winnebago Heights Road\, Malone\, WI\, 53049\, United States
END:VEVENT
BEGIN:VEVENT
DTSTART;TZID=America/Chicago:20260322T130000
DTEND;TZID=America/Chicago:20260322T160000
DTSTAMP:20260420T071208
CREATED:20250423T200206Z
LAST-MODIFIED:20260322T124532Z
UID:3854-1774184400-1774195200@www.zieglerwinery.com
SUMMARY:Open Tab
DESCRIPTION:Open Tab plays Original Covers. It may seem like an oxymoron\, but this husband and wife duo use their diverse musical backgrounds to put their own spin on everything from Ray Charles to Matchbox 20. Carmyn blends her sultry vocals with Nicks Irish and electric inspired acoustic guitar playing to create something truly one of a kind
URL:https://www.zieglerwinery.com/event/open-tab-2/
LOCATION:Ziegler Winery\, W3953 Winnebago Heights Road\, Malone\, WI\, 53049\, United States
END:VEVENT
BEGIN:VEVENT
DTSTART;TZID=America/Chicago:20260327T183000
DTEND;TZID=America/Chicago:20260327T200000
DTSTAMP:20260420T071208
CREATED:20260204T141032Z
LAST-MODIFIED:20260322T145302Z
UID:4050-1774636200-1774641600@www.zieglerwinery.com
SUMMARY:Comedy Night with Midwest Comedy Tours - SOLD OUT
DESCRIPTION:Get ready for a night of laughs as the Midwest Comedy Tour comes to Ziegler Winery on Friday\, March 27th!\nThe Midwest Comedy Tour has been traveling across the country\, bringing their unique blend of stand-up and improv to wineries\, breweries\, comedy clubs\, theaters\, and even baseball stadiums. Joining us will be MCT founder\, Austin Robertson [writer for Blaze TV’s Normal World\, 2018’s 2nd place finalist in the “Funniest Person in Ohio” competition\, performing all across the country from Baseball Stadiums to Carnegie Hall] and Becky Thompson [co-founder of the Midwest Comedy Tour\, finalist in the “Funniest Person in Ohio” competition\, featured in the satirical journal the Belladonna].\n\nWe are so excited to welcome you for an unforgettable evening of fun–come early and enjoy the winery’s finest food and drink offerings\, sit back\, relax\, and laugh the night away!\n\nFRIDAY\, MARCH 27SHOWTIME 6:30 PM (doors open at 5 pm for food and drinks)TICKETS ONLINE (link in event)ADULT CONTENT/LANGUAGE (21+)
URL:https://www.zieglerwinery.com/event/comedy-night-with-midwest-comedy-tours/
LOCATION:Ziegler Winery\, W3953 Winnebago Heights Road\, Malone\, WI\, 53049\, United States
END:VEVENT
BEGIN:VEVENT
DTSTART;TZID=America/Chicago:20260328T150000
DTEND;TZID=America/Chicago:20260328T180000
DTSTAMP:20260420T071208
CREATED:20250918T193515Z
LAST-MODIFIED:20251231T195304Z
UID:3944-1774710000-1774720800@www.zieglerwinery.com
SUMMARY:Haley Klinkhammer
DESCRIPTION:At the age of 14\, Haley Klinkhammer picked up a guitar and filmed her first YouTube video. Years later\, with almost 300 videos\, over 5 million streams on Spotify\, and hundreds of shows under her belt\, Haley continues to follow her passion. \nHaley is a believer in the power of music and its ability to speak to people. For years\, she has been winning over crowds with the power of her voice and the beauty of her heart. Whether it’s her original songs or covers\, YouTube or your hometown stage\, Haley is bound to blow you away.
URL:https://www.zieglerwinery.com/event/haley-klinkhammer-2/
LOCATION:Ziegler Winery\, W3953 Winnebago Heights Road\, Malone\, WI\, 53049\, United States
END:VEVENT
BEGIN:VEVENT
DTSTART;TZID=America/Chicago:20260329T130000
DTEND;TZID=America/Chicago:20260329T160000
DTSTAMP:20260420T071208
CREATED:20231130T193605Z
LAST-MODIFIED:20251231T030052Z
UID:3382-1774789200-1774800000@www.zieglerwinery.com
SUMMARY:Mark Croft
DESCRIPTION:Mark Croft is a 15-time Madison Area Music Award-winning performer and acoustic guitarist from Madison\, WI. A high-energy and talented musician\, Croft has been performing full-time since 2005\, playing his mix of Roots\, Rock & Americana covers and originals. From Stevie Wonder to Paul Simon\, Tom Petty to Springsteen\, and the Beatles to Johnny Cash\, he covers all the bases\, and puts an original spin on the songs you know and love. He’s also an award-winning songwriter and vocalist with six albums (and counting) of original music to his name.
URL:https://www.zieglerwinery.com/event/mark-croft-2/
LOCATION:Ziegler Winery\, W3953 Winnebago Heights Road\, Malone\, WI\, 53049\, United States
END:VEVENT
BEGIN:VEVENT
DTSTART;TZID=America/Chicago:20260404T150000
DTEND;TZID=America/Chicago:20260404T180000
DTSTAMP:20260420T071208
CREATED:20250717T171804Z
LAST-MODIFIED:20260114T183518Z
UID:3898-1775314800-1775325600@www.zieglerwinery.com
SUMMARY:Listening Party
DESCRIPTION:Much like Bob Dylan and Jon Prine and more current contemporaries such as The Avett Brothers and The Lumineers\, Milwaukee\, WI-based band Listening Party is indebted to the traditions of folk\, rock and Americana and taking those styles to new horizons. At the heart of their sound\, storytelling and melody reign supreme\, with songs seeking to examine stories rooted in the joys and perils of life.
URL:https://www.zieglerwinery.com/event/listening-party-7/
LOCATION:Ziegler Winery\, W3953 Winnebago Heights Road\, Malone\, WI\, 53049\, United States
END:VEVENT
BEGIN:VEVENT
DTSTART;TZID=America/Chicago:20260410T170000
DTEND;TZID=America/Chicago:20260410T200000
DTSTAMP:20260420T071208
CREATED:20260114T184004Z
LAST-MODIFIED:20260114T184004Z
UID:4038-1775840400-1775851200@www.zieglerwinery.com
SUMMARY:Tommy Odetto
DESCRIPTION:Tommy was inspired by guitar greats including the Eric Clapton\, Jimi Hendrix\, Stevie Ray Vaughan and so many more.  He realized from an early age that his purpose on this earth was to lift people’s spirits with music.
URL:https://www.zieglerwinery.com/event/tommy-odetto/
LOCATION:Ziegler Winery\, W3953 Winnebago Heights Road\, Malone\, WI\, 53049\, United States
END:VEVENT
BEGIN:VEVENT
DTSTART;TZID=America/Chicago:20260411T150000
DTEND;TZID=America/Chicago:20260411T180000
DTSTAMP:20260420T071208
CREATED:20250110T033840Z
LAST-MODIFIED:20260114T184610Z
UID:3738-1775919600-1775930400@www.zieglerwinery.com
SUMMARY:Olivia Maro
DESCRIPTION:Olivia Maro with be performing your favorite country music.
URL:https://www.zieglerwinery.com/event/olivia-maro/
LOCATION:Ziegler Winery\, W3953 Winnebago Heights Road\, Malone\, WI\, 53049\, United States
ATTACH;FMTTYPE=image/jpeg:https://www.zieglerwinery.com/wp-content/uploads/2025/01/Olivia-Maro-scaled.jpg
END:VEVENT
BEGIN:VEVENT
DTSTART;TZID=America/Chicago:20260412T130000
DTEND;TZID=America/Chicago:20260412T160000
DTSTAMP:20260420T071208
CREATED:20250717T170439Z
LAST-MODIFIED:20260114T185104Z
UID:3888-1775998800-1776009600@www.zieglerwinery.com
SUMMARY:Marcell Guyton
DESCRIPTION:Marcell Guyton is a Milwaukee-based professional piano player and singer.  In addition to his solo show\, he is also the founder and band leader for The Rhythm Kings. Marcell’s genre of music spans a wide variety from Johnny Cash to Bruno Mars\, Michael Jackson to Billy Joel and everything in between.
URL:https://www.zieglerwinery.com/event/marcell-guyton-4/
LOCATION:Ziegler Winery\, W3953 Winnebago Heights Road\, Malone\, WI\, 53049\, United States
END:VEVENT
BEGIN:VEVENT
DTSTART;TZID=America/Chicago:20260418T150000
DTEND;TZID=America/Chicago:20260418T180000
DTSTAMP:20260420T071208
CREATED:20240614T175646Z
LAST-MODIFIED:20260114T184803Z
UID:3585-1776524400-1776535200@www.zieglerwinery.com
SUMMARY:I Drank With Hank (Steve Miller Acoustic)
DESCRIPTION:Steve Miller\, front man for Remington‘s Ride\, will be doing an acoustic solo show with all your Honky Tonk and country favorites
URL:https://www.zieglerwinery.com/event/i-drank-with-hank-steve-miller-acoustic/
LOCATION:Ziegler Winery\, W3953 Winnebago Heights Road\, Malone\, WI\, 53049\, United States
END:VEVENT
BEGIN:VEVENT
DTSTART;TZID=America/Chicago:20260419T130000
DTEND;TZID=America/Chicago:20260419T160000
DTSTAMP:20260420T071208
CREATED:20200527T184725Z
LAST-MODIFIED:20260114T185026Z
UID:2237-1776603600-1776614400@www.zieglerwinery.com
SUMMARY:Jamie Odekirk (Lone Oak Music)
DESCRIPTION:Lone Oak Music is a solo project by Plymouth\, WI area musician\, Jamie Odekirk. Jamie has been a part of the local music scene for over ten years in different configurations\, most recently as the singer/guitarist in The Honeygoats. Lone Oak is a stripped-down version of the things he has done in the past. Original songs\, and covers ranging from folk\, rock\, country\, blues\, and pop are all in play for any given Lone Oak setlist.
URL:https://www.zieglerwinery.com/event/austin-skalecki/
LOCATION:Ziegler Winery\, W3953 Winnebago Heights Road\, Malone\, WI\, 53049\, United States
ATTACH;FMTTYPE=image/jpeg:https://www.zieglerwinery.com/wp-content/uploads/2020/05/Jamie-Odekirk.jpg
END:VEVENT
BEGIN:VEVENT
DTSTART;TZID=America/Chicago:20260424T170000
DTEND;TZID=America/Chicago:20260424T200000
DTSTAMP:20260420T071208
CREATED:20240910T163520Z
LAST-MODIFIED:20260114T185201Z
UID:3661-1777050000-1777060800@www.zieglerwinery.com
SUMMARY:Tim Wright
DESCRIPTION:Tim began his music career playing saxophone in front of his childhood home at the age of 10. Music became a focus when he attended Waukesha South High School where he earned the Louis Armstrong Jazz Award his senior year as well as participating in school musicals. After high school Tim attended UW-Milwaukee\, earning his degree in Jazz Studies in 2012. \nIn college\, Tim grew to play consistently in the Milwaukee area and playing Milwaukee staple festivals like Lakefront Festival of the Arts and Summerfest.
URL:https://www.zieglerwinery.com/event/tim-wright-2/
LOCATION:Ziegler Winery\, W3953 Winnebago Heights Road\, Malone\, WI\, 53049\, United States
END:VEVENT
BEGIN:VEVENT
DTSTART;TZID=America/Chicago:20260425T150000
DTEND;TZID=America/Chicago:20260425T180000
DTSTAMP:20260420T071208
CREATED:20241018T202025Z
LAST-MODIFIED:20260114T185330Z
UID:3683-1777129200-1777140000@www.zieglerwinery.com
SUMMARY:Andy Braun
DESCRIPTION:Andy Braun is a singer/songwriter with a folk-rock feel. He plays a wide variety of cover songs as well as insightful originals.
URL:https://www.zieglerwinery.com/event/andy-braun-3/
LOCATION:Ziegler Winery\, W3953 Winnebago Heights Road\, Malone\, WI\, 53049\, United States
END:VEVENT
BEGIN:VEVENT
DTSTART;TZID=America/Chicago:20260426T110000
DTEND;TZID=America/Chicago:20260426T130000
DTSTAMP:20260420T071208
CREATED:20260311T134503Z
LAST-MODIFIED:20260330T131823Z
UID:4079-1777201200-1777208400@www.zieglerwinery.com
SUMMARY:Create a Wine Bottle Succulent Terrarium - SOLD OUT
DESCRIPTION:Join us for a relaxing afternoon building your own beautiful wine bottle succulent garden. All materials will be provided and Cassie from Stuarts Landscaping will guide you through the creation process. Choose from 3 different bottle colors: Clear\, vintage green\, or vintage brown\, with many succulent options to choose from. While you create\, enjoy the first glass of wine\, beer\, or any of our NA options included in the price of the ticket. Order lunch or a snack from our food menu for an additional cost. \n 
URL:https://www.zieglerwinery.com/event/create-a-wine-bottle-succulent-terrarium/
LOCATION:Ziegler Winery\, W3953 Winnebago Heights Road\, Malone\, WI\, 53049\, United States
END:VEVENT
BEGIN:VEVENT
DTSTART;TZID=America/Chicago:20260426T130000
DTEND;TZID=America/Chicago:20260426T160000
DTSTAMP:20260420T071208
CREATED:20250727T202216Z
LAST-MODIFIED:20260114T185644Z
UID:3900-1777208400-1777219200@www.zieglerwinery.com
SUMMARY:Jesse Bauman
DESCRIPTION:Jesse Bauman is a songwriter\, Country/Americana Solo Artist\, and guitarist. He plays originals and country covers.
URL:https://www.zieglerwinery.com/event/3900/
LOCATION:Ziegler Winery\, W3953 Winnebago Heights Road\, Malone\, WI\, 53049\, United States
END:VEVENT
BEGIN:VEVENT
DTSTART;TZID=America/Chicago:20260501T180000
DTEND;TZID=America/Chicago:20260501T200000
DTSTAMP:20260420T071208
CREATED:20250926T214937Z
LAST-MODIFIED:20260311T210511Z
UID:3962-1777658400-1777665600@www.zieglerwinery.com
SUMMARY:Dueling Pianos
DESCRIPTION:Exciting! Electrifying! Dueling Pianos! Join one of our favorites\, Marcel Guyton and his partner\, Steve Watts\, as they perform on two\, unique PIANOS! Marcel’s versatile musical repertoire both with the Rhythm Kings and his solo shows will bring his energizing personality to the dueling piano performance! We will have food items available to order until the show starts at 6pm. \nIMPORTANT TICKET INFORMATION:\nTickets are Non-Refundable\nThis is a 21+ ONLY Event\nTickets will not be sold at the door\nTickets are Reserved Seating \nPurchase Tickets Here: \nhttps://www.eventbrite.com/e/dueling-pianos-with-guyton-entertainment-tickets-1984999466840?aff=oddtdtcreator \nPlease do not purchase tickets from anyone other than our posted ticket links which takes you directly to the Eventbrite site to buy.
URL:https://www.zieglerwinery.com/event/dueling-pianos-with-guyton-entertainment-copy/
LOCATION:Ziegler Winery\, W3953 Winnebago Heights Road\, Malone\, WI\, 53049\, United States
END:VEVENT
BEGIN:VEVENT
DTSTART;TZID=America/Chicago:20260502T150000
DTEND;TZID=America/Chicago:20260502T180000
DTSTAMP:20260420T071208
CREATED:20260207T190743Z
LAST-MODIFIED:20260207T190743Z
UID:4054-1777734000-1777744800@www.zieglerwinery.com
SUMMARY:Levi Ballenger Trio
DESCRIPTION:Levi is a full-time professional singer/songwriter\, guitarist\, and producer from central Wisconsin. He began playing music professionally in 2016\, performing as a solo artist and with various groups. He has since played nearly 400 public and private shows\, and has opened for acts like Grammy Award winner Pam Tillis. His influences are quite diverse\, and have helped him to develop a sound that is uniquely his own. He is currently completing his final year at UW Stevens Point\, where he will graduate with a bachelors degree in music and art. No matter what the occasion\, Levis high-energy musical performance is sure to be a great addition!
URL:https://www.zieglerwinery.com/event/levi-ballenger-trio/
END:VEVENT
BEGIN:VEVENT
DTSTART;TZID=America/Chicago:20260503T140000
DTEND;TZID=America/Chicago:20260503T170000
DTSTAMP:20260420T071208
CREATED:20260207T190911Z
LAST-MODIFIED:20260326T212237Z
UID:4055-1777816800-1777827600@www.zieglerwinery.com
SUMMARY:Kyle Megna Trio
DESCRIPTION:The Kyle Menga Trio “indie-blues-folk-rock feel” is a magnetic force that’s ever-charged with surges of creativity and artistic experimentation. Fused with a healthy dose of spontaneity and humor\, Kyle Megna and the Monsoons channel can’t-get-enough energy that’s good for the soul.
URL:https://www.zieglerwinery.com/event/kyle-menga-trio-2/
LOCATION:Ziegler Winery\, W3953 Winnebago Heights Road\, Malone\, WI\, 53049\, United States
END:VEVENT
BEGIN:VEVENT
DTSTART;TZID=America/Chicago:20260508T170000
DTEND;TZID=America/Chicago:20260508T200000
DTSTAMP:20260420T071208
CREATED:20260207T192128Z
LAST-MODIFIED:20260207T192128Z
UID:4056-1778259600-1778270400@www.zieglerwinery.com
SUMMARY:The Belle Weather
DESCRIPTION:Over the years\, The Belle Weather has taken a great many influences and blended them into a sound that is uniquely their own. They have built a reputation by approaching every stage with a rare combination of gritty\, sweat-drenched energy and honest\, heart-felt sonic grace with the rhythmic storm of an acoustic guitar\, the deep pulse of an upright bass\, and the soaring elegance of cello\, violin\, and voice.
URL:https://www.zieglerwinery.com/event/the-belle-weather-2/
LOCATION:Ziegler Winery\, W3953 Winnebago Heights Road\, Malone\, WI\, 53049\, United States
END:VEVENT
BEGIN:VEVENT
DTSTART;TZID=America/Chicago:20260509T150000
DTEND;TZID=America/Chicago:20260509T180000
DTSTAMP:20260420T071208
CREATED:20260207T192357Z
LAST-MODIFIED:20260207T192357Z
UID:4057-1778338800-1778349600@www.zieglerwinery.com
SUMMARY:Ben Gage
DESCRIPTION:  \n \nBen Gage is a songwriter from Akron\, OH blending folk and roots blues. Ben Gage grew up in the rust belt of Northeast Ohio\, spread out in the countryside along the great Lake Erie. His roots run deep alongside the hard-working blue collars that Ohio has to boast. That tenacity\, love of family\, and respect for a long day can be seen in his music. In Fall of 2021 Ben quit his job in the tech-sector to pursue music full time. Now he travels the US sharing stories and songs and always collecting more
URL:https://www.zieglerwinery.com/event/ben-gage-3/
END:VEVENT
BEGIN:VEVENT
DTSTART;TZID=America/Chicago:20260510T140000
DTEND;TZID=America/Chicago:20260510T170000
DTSTAMP:20260420T071208
CREATED:20260207T192511Z
LAST-MODIFIED:20260207T192511Z
UID:4058-1778421600-1778432400@www.zieglerwinery.com
SUMMARY:Russ Reiser
DESCRIPTION:Russ Reiser (formerly from Vic Ferrari) will be performing a solo acoustic show
URL:https://www.zieglerwinery.com/event/russ-reiser-3/
LOCATION:Ziegler Winery\, W3953 Winnebago Heights Road\, Malone\, WI\, 53049\, United States
END:VEVENT
BEGIN:VEVENT
DTSTART;TZID=America/Chicago:20260515T170000
DTEND;TZID=America/Chicago:20260515T200000
DTSTAMP:20260420T071208
CREATED:20260207T193957Z
LAST-MODIFIED:20260326T212355Z
UID:4059-1778864400-1778875200@www.zieglerwinery.com
SUMMARY:Scotty Meyer Solo
DESCRIPTION:A Wisconsin solo act by Scotty Meyer\, the 5 time WAMI nominee for Guitarist of the Year. Get your dancing shoes on because it’s gonna get crazy with this mix of rock\, pop and country!
URL:https://www.zieglerwinery.com/event/scotty-meyer-solo/
END:VEVENT
BEGIN:VEVENT
DTSTART;TZID=America/Chicago:20260516T150000
DTEND;TZID=America/Chicago:20260516T180000
DTSTAMP:20260420T071208
CREATED:20250918T194205Z
LAST-MODIFIED:20260207T194209Z
UID:3946-1778943600-1778954400@www.zieglerwinery.com
SUMMARY:Michael & Jotham (of Fallback)
DESCRIPTION:Stop out at Ziegler winery to catch Michael and Jotham performing another tasteful acoustic set — No better pairing than harmony vocals and sweet wine!
URL:https://www.zieglerwinery.com/event/michael-jotham-of-fallback-2/
END:VEVENT
BEGIN:VEVENT
DTSTART;TZID=America/Chicago:20260517T140000
DTEND;TZID=America/Chicago:20260517T170000
DTSTAMP:20260420T071208
CREATED:20260207T194543Z
LAST-MODIFIED:20260207T194543Z
UID:4061-1779026400-1779037200@www.zieglerwinery.com
SUMMARY:Erin Krebs Duo
DESCRIPTION:Join the Erin Krebs Duo (Erin & Jeff) for a night of jazz and blues
URL:https://www.zieglerwinery.com/event/erin-krebs-duo/
LOCATION:Ziegler Winery\, W3953 Winnebago Heights Road\, Malone\, WI\, 53049\, United States
END:VEVENT
BEGIN:VEVENT
DTSTART;TZID=America/Chicago:20260522T170000
DTEND;TZID=America/Chicago:20260522T200000
DTSTAMP:20260420T071208
CREATED:20260207T194720Z
LAST-MODIFIED:20260207T194720Z
UID:4062-1779469200-1779480000@www.zieglerwinery.com
SUMMARY:Brent Bel Band
DESCRIPTION:Recently opening for John Michael Montgomery\, Brent Bel & The Boys know how to get the party started. Join us for a boot scootin’ evening of your favorite country tunes that span the decades. They’ll have you singing and dancing along all night long.
URL:https://www.zieglerwinery.com/event/brent-bel-band-2/
END:VEVENT
BEGIN:VEVENT
DTSTART;TZID=America/Chicago:20260523T150000
DTEND;TZID=America/Chicago:20260523T180000
DTSTAMP:20260420T071208
CREATED:20260207T195123Z
LAST-MODIFIED:20260207T195123Z
UID:4063-1779548400-1779559200@www.zieglerwinery.com
SUMMARY:Rings of the Fox Valley
DESCRIPTION:The music of RINGS encompasses many styles and genres. RINGS is often recognized for their faithful reproduction of songs from the sixties and seventies by groups like The Eagles; Crosby\, Stills\, Nash and Neil Young; The Moody Blues; Simon & Garfunkel and Led Zeppelin. \nThey are equally adept at capturing the essence of more contemporary artists like Coldplay; Green Day and Jason Mraz. Five unique solo voices that often harmonize to blend as one. \nTom is particularly good at songs by Gordon Lightfoot and Cat Stevens while Tony’s covers of songs by Neil Young and Sting are amazingly authentic! Steve and Dale cover many other artists as well. Anthony has made his lead vocal debut with RINGS on a song by Coldplay.
URL:https://www.zieglerwinery.com/event/rings-of-the-fox-valley-7/
END:VEVENT
BEGIN:VEVENT
DTSTART;TZID=America/Chicago:20260524T140000
DTEND;TZID=America/Chicago:20260524T170000
DTSTAMP:20260420T071208
CREATED:20260207T195419Z
LAST-MODIFIED:20260207T195625Z
UID:4064-1779631200-1779642000@www.zieglerwinery.com
SUMMARY:Logan Spicer
DESCRIPTION:Originally from Alabama\, Logan Spicer and is keeping country music alive playing all over WI and bringing that Southern sound up North with every show. With influences from Merle Haggard to Chris Stapleton\, he sings with soul and grit a guitar in hand-doing what he loves!
URL:https://www.zieglerwinery.com/event/logan-spicer/
LOCATION:Ziegler Winery\, W3953 Winnebago Heights Road\, Malone\, WI\, 53049\, United States
END:VEVENT
END:VCALENDAR