BEGIN:VCALENDAR
VERSION:2.0
PRODID:-//Ziegler Winery - ECPv6.15.20//NONSGML v1.0//EN
CALSCALE:GREGORIAN
METHOD:PUBLISH
X-WR-CALNAME:Ziegler Winery
X-ORIGINAL-URL:https://www.zieglerwinery.com
X-WR-CALDESC:Events for Ziegler Winery
REFRESH-INTERVAL;VALUE=DURATION:PT1H
X-Robots-Tag:noindex
X-PUBLISHED-TTL:PT1H
BEGIN:VTIMEZONE
TZID:America/Chicago
BEGIN:DAYLIGHT
TZOFFSETFROM:-0600
TZOFFSETTO:-0500
TZNAME:CDT
DTSTART:20190310T080000
END:DAYLIGHT
BEGIN:STANDARD
TZOFFSETFROM:-0500
TZOFFSETTO:-0600
TZNAME:CST
DTSTART:20191103T070000
END:STANDARD
BEGIN:DAYLIGHT
TZOFFSETFROM:-0600
TZOFFSETTO:-0500
TZNAME:CDT
DTSTART:20200308T080000
END:DAYLIGHT
BEGIN:STANDARD
TZOFFSETFROM:-0500
TZOFFSETTO:-0600
TZNAME:CST
DTSTART:20201101T070000
END:STANDARD
BEGIN:DAYLIGHT
TZOFFSETFROM:-0600
TZOFFSETTO:-0500
TZNAME:CDT
DTSTART:20210314T080000
END:DAYLIGHT
BEGIN:STANDARD
TZOFFSETFROM:-0500
TZOFFSETTO:-0600
TZNAME:CST
DTSTART:20211107T070000
END:STANDARD
BEGIN:DAYLIGHT
TZOFFSETFROM:-0600
TZOFFSETTO:-0500
TZNAME:CDT
DTSTART:20220313T080000
END:DAYLIGHT
BEGIN:STANDARD
TZOFFSETFROM:-0500
TZOFFSETTO:-0600
TZNAME:CST
DTSTART:20221106T070000
END:STANDARD
END:VTIMEZONE
BEGIN:VEVENT
DTSTART;TZID=America/Chicago:20210123T150000
DTEND;TZID=America/Chicago:20210123T180000
DTSTAMP:20260420T100022
CREATED:20200625T184205Z
LAST-MODIFIED:20201221T181525Z
UID:2337-1611414000-1611424800@www.zieglerwinery.com
SUMMARY:Live Music w/ Tae
DESCRIPTION:Tae is typically a solo act with guitar and vocals. As an original artist\, many of her works are in the directions of R&B\, soul\, rock and pop.
URL:https://www.zieglerwinery.com/event/live-music-w-tae/
ATTACH;FMTTYPE=image/jpeg:https://www.zieglerwinery.com/wp-content/uploads/2020/06/74634618_936366403387617_1162369547894784000_o.jpg
END:VEVENT
BEGIN:VEVENT
DTSTART;TZID=America/Chicago:20210109T150000
DTEND;TZID=America/Chicago:20210109T180000
DTSTAMP:20260420T100022
CREATED:20200326T143159Z
LAST-MODIFIED:20201223T232156Z
UID:2112-1610204400-1610215200@www.zieglerwinery.com
SUMMARY:Austin and Sage ~ Acoustic Duo
DESCRIPTION:Rock\, blues and Americana. Experience Acoustic duo Sage Leary and Austin Skalecki at Ziegler Winery as part of their Wisconsin state tour!
URL:https://www.zieglerwinery.com/event/austin-skalecki-live-2/
ATTACH;FMTTYPE=image/jpeg:https://www.zieglerwinery.com/wp-content/uploads/2020/03/131723212_3706821729356369_7795179215984572315_o.jpg
END:VEVENT
BEGIN:VEVENT
DTSTART;TZID=America/Chicago:20210102T140000
DTEND;TZID=America/Chicago:20210102T170000
DTSTAMP:20260420T100022
CREATED:20200516T031613Z
LAST-MODIFIED:20201223T231017Z
UID:2214-1609596000-1609606800@www.zieglerwinery.com
SUMMARY:Stuck on Blue
DESCRIPTION:Stuck on Blue is an original jazz trio based out of the Fox Valley featuring Kelvin Kaspar(Guitar)\, Jake Crowe(Bass)\, and Mike Malone(Drums).
URL:https://www.zieglerwinery.com/event/mike-malone-jazz-trio/
ATTACH;FMTTYPE=image/png:https://www.zieglerwinery.com/wp-content/uploads/2020/05/1.2.21-Stuck-On-Blue.png
END:VEVENT
BEGIN:VEVENT
DTSTART;TZID=America/Chicago:20201211T170000
DTEND;TZID=America/Chicago:20201211T193000
DTSTAMP:20260420T100022
CREATED:20201202T172344Z
LAST-MODIFIED:20201202T172344Z
UID:2485-1607706000-1607715000@www.zieglerwinery.com
SUMMARY:Live Music w/ Jack Tell
DESCRIPTION:Enjoy a relaxing night of acoustic guitar with Jack Tell. Jack will even be strumming some Christmas cheer!
URL:https://www.zieglerwinery.com/event/live-music-w-jack-tell/
ATTACH;FMTTYPE=image/jpeg:https://www.zieglerwinery.com/wp-content/uploads/2020/12/128771642_687319998813679_2309773364059047300_n.jpg
END:VEVENT
BEGIN:VEVENT
DTSTART;TZID=America/Chicago:20201204T180000
DTEND;TZID=America/Chicago:20201204T190000
DTSTAMP:20260420T100022
CREATED:20201110T235843Z
LAST-MODIFIED:20201110T235843Z
UID:2462-1607104800-1607108400@www.zieglerwinery.com
SUMMARY:A Night of Comedy w/ AJ Gonzalez
DESCRIPTION:Join us for a night of comedy with Reverend AJ. It’s ugly sweater night so pull that ugly Christmas sweater out of your closet and show us what you’ve got! We will have our pairing menu and Bob’s pizza available for purchase along with our great wine and craft beer.
URL:https://www.zieglerwinery.com/event/a-night-of-comedy-w-aj-gonzalez/
ATTACH;FMTTYPE=image/jpeg:https://www.zieglerwinery.com/wp-content/uploads/2020/11/AJ.jpg
END:VEVENT
BEGIN:VEVENT
DTSTART;TZID=America/Chicago:20201121T120000
DTEND;TZID=America/Chicago:20201121T170000
DTSTAMP:20260420T100022
CREATED:20201118T042325Z
LAST-MODIFIED:20201118T042325Z
UID:2476-1605960000-1605978000@www.zieglerwinery.com
SUMMARY:Mermaid Tears Creations Pop-up Trunk Show
DESCRIPTION:Want a one of a kind gift? This Saturday we are having a pop up show with Mermaid Tears Creations from 12-5. Featuring Candle votives\, lanterns\,￼pendants\, our exclusive wine charms and so much more!
URL:https://www.zieglerwinery.com/event/mermaid-tears-creations-pop-up-trunk-show/
ATTACH;FMTTYPE=image/jpeg:https://www.zieglerwinery.com/wp-content/uploads/2020/11/image_6487327-1.jpg
END:VEVENT
BEGIN:VEVENT
DTSTART;TZID=America/Chicago:20201107T140000
DTEND;TZID=America/Chicago:20201107T180000
DTSTAMP:20260420T100022
CREATED:20200326T143750Z
LAST-MODIFIED:20200922T231458Z
UID:2121-1604757600-1604772000@www.zieglerwinery.com
SUMMARY:Bear Creek Station
DESCRIPTION:
URL:https://www.zieglerwinery.com/event/bear-creek-station/
ATTACH;FMTTYPE=image/jpeg:https://www.zieglerwinery.com/wp-content/uploads/2020/03/Bear-Creek-Station.jpg
END:VEVENT
BEGIN:VEVENT
DTSTART;TZID=America/Chicago:20201024T150000
DTEND;TZID=America/Chicago:20201024T180000
DTSTAMP:20260420T100022
CREATED:20200902T204519Z
LAST-MODIFIED:20200903T174911Z
UID:2426-1603551600-1603562400@www.zieglerwinery.com
SUMMARY:The HoneyGoats
DESCRIPTION:Wisconsin Bluegrass
URL:https://www.zieglerwinery.com/event/the-honeygoats/
ATTACH;FMTTYPE=image/jpeg:https://www.zieglerwinery.com/wp-content/uploads/2020/09/Honeygoats.jpg
END:VEVENT
BEGIN:VEVENT
DTSTART;TZID=America/Chicago:20201010T090000
DTEND;TZID=America/Chicago:20201010T170000
DTSTAMP:20260420T100022
CREATED:20200902T202424Z
LAST-MODIFIED:20200902T202424Z
UID:2422-1602320400-1602349200@www.zieglerwinery.com
SUMMARY:East Shore Arts & Harvest Trail
DESCRIPTION:Come and join us for our first annual East Shore Arts & Harvest Trail! Featuring all the best rural Wisconsin has to offer including local artists\, artisans\, crafters\, cheese\, wine\, apples\, and more!
URL:https://www.zieglerwinery.com/event/east-shore-arts-harvest-trail-2/
ATTACH;FMTTYPE=image/png:https://www.zieglerwinery.com/wp-content/uploads/2020/09/East-Shore.png
END:VEVENT
BEGIN:VEVENT
DTSTART;TZID=America/Chicago:20201009T090000
DTEND;TZID=America/Chicago:20201009T170000
DTSTAMP:20260420T100022
CREATED:20200902T202327Z
LAST-MODIFIED:20200902T202440Z
UID:2420-1602234000-1602262800@www.zieglerwinery.com
SUMMARY:East Shore Arts & Harvest Trail
DESCRIPTION:Come and join us for our first annual East Shore Arts & Harvest Trail! Featuring all the best rural Wisconsin has to offer including local artists\, artisans\, crafters\, cheese\, wine\, apples\, and more!
URL:https://www.zieglerwinery.com/event/east-shore-arts-harvest-trail/
ATTACH;FMTTYPE=image/png:https://www.zieglerwinery.com/wp-content/uploads/2020/09/East-Shore.png
END:VEVENT
BEGIN:VEVENT
DTSTART;TZID=America/Chicago:20200904T163000
DTEND;TZID=America/Chicago:20200904T190000
DTSTAMP:20260420T100022
CREATED:20200807T172250Z
LAST-MODIFIED:20200821T195852Z
UID:2405-1599237000-1599246000@www.zieglerwinery.com
SUMMARY:Osorio Latin Fusion Food Truck
DESCRIPTION:When it comes to delicious Latin cuisine with a unique twist\, no one does it better than Osorio’s Latin Fusion. Every dish created is prepared with fresh and high-quality ingredients. When finessed together\, they form a meal that is mouthwatering and distinct.\n*************************************\nWant to “taco” ’bout the menu? Here it is!\nTACOS – $3\n*Choose Mexican Style (cilantro\, onion\, crema) OR American Style (cheese\, lettuce\, tomato\, créma) + choice of (1) protein\nNACHOS – $8\n*Chips\, Pico\, lettuce\, Queso\, créma + choice of (1) protein\nBURRITO OR CHIMI $13\n*rice\, beans\, lettuce\, pico\, cheese\, Queso + choice of (1) protein\nPROTEIN CHOICES\no Ground Beef\no Shredded Chicken\no Chorizo\no Al Pastor Pork – smoky pork &\npineapple\no Ribeye Steak +$1\no Grilled Shrimp +$1\no Coconut Shrimp – with Mango Salsa\n+$2\no Fried Avocado – with slaw (vegetarian)\no Portobello/Shallot (vegetarian/vegan on request)\nSIDES & SNACKS\no Coconut Shrimp w/ Mango Salsa\n-2 for $8/4 for $15\no Poblano Rice $2\no Mexican Street Corn $3\no Chips & Salsa $4\no Chips & Queso $5\no Chips & Guacamole $6\no Side Salsa $2\no Side Queso Dip $3\no Side Guacamole $4
URL:https://www.zieglerwinery.com/event/osorio-latin-fusion-food-truck/
ATTACH;FMTTYPE=image/jpeg:https://www.zieglerwinery.com/wp-content/uploads/2020/07/osorio-s-latin-fusion.jpg
END:VEVENT
BEGIN:VEVENT
DTSTART;TZID=America/Chicago:20200821T160000
DTEND;TZID=America/Chicago:20200821T190000
DTSTAMP:20260420T100022
CREATED:20200807T172855Z
LAST-MODIFIED:20200807T172855Z
UID:2406-1598025600-1598036400@www.zieglerwinery.com
SUMMARY:Inferno Subs Food Truck
DESCRIPTION:
URL:https://www.zieglerwinery.com/event/inferno-subs-food-truck/
ATTACH;FMTTYPE=image/jpeg:https://www.zieglerwinery.com/wp-content/uploads/2020/06/20170705_204823-scaled.jpg
END:VEVENT
BEGIN:VEVENT
DTSTART;TZID=America/Chicago:20200725T150000
DTEND;TZID=America/Chicago:20200725T190000
DTSTAMP:20260420T100022
CREATED:20200326T143231Z
LAST-MODIFIED:20200722T220336Z
UID:2113-1595689200-1595703600@www.zieglerwinery.com
SUMMARY:Western Swing & Honky Tonk with the Ride
DESCRIPTION:Remington’s Ride is a Wisconsin based band of veteran musicians bringing the great sounds of Vintage Western Swing\, roots country\, americana\, rockabilly\, and honky tonk to a whole new generation of music fans.
URL:https://www.zieglerwinery.com/event/western-swing-honky-tonk-with-the-ride/
ATTACH;FMTTYPE=image/jpeg:https://www.zieglerwinery.com/wp-content/uploads/2020/03/65154327_2414821728596891_1307480077461618688_o.jpg
END:VEVENT
BEGIN:VEVENT
DTSTART;TZID=America/Chicago:20200711T163000
DTEND;TZID=America/Chicago:20200711T190000
DTSTAMP:20260420T100022
CREATED:20200625T180937Z
LAST-MODIFIED:20200627T001813Z
UID:2325-1594485000-1594494000@www.zieglerwinery.com
SUMMARY:Inferno Gourmet Toasted Subs Food Truck
DESCRIPTION:Enjoy great toasted subs while you listed to the great acoustic sounds of Austin Skalecki!
URL:https://www.zieglerwinery.com/event/inferno-gourmet-toasted-subs-food-truck/
END:VEVENT
BEGIN:VEVENT
DTSTART;TZID=America/Chicago:20200711T120000
DTEND;TZID=America/Chicago:20200711T140000
DTSTAMP:20260420T100022
CREATED:20200625T180459Z
LAST-MODIFIED:20200625T180605Z
UID:2323-1594468800-1594476000@www.zieglerwinery.com
SUMMARY:Paint With Wine - Literally!
DESCRIPTION:Paint With Wine…literally!!! \nReserve Your Seat Today! Space is Limited!!! \nThis is a guided art class\, where you can follow along as little or as much as you would like! This class is designed to be fun\, relaxing and entertaining. \n**All levels of painters welcome.
URL:https://www.zieglerwinery.com/event/paint-with-wine-literally/
ATTACH;FMTTYPE=image/jpeg:https://www.zieglerwinery.com/wp-content/uploads/2020/06/IMG_6925-Wine-Painting-scaled.jpg
END:VEVENT
BEGIN:VEVENT
DTSTART;TZID=America/Chicago:20200710T170000
DTEND;TZID=America/Chicago:20200710T200000
DTSTAMP:20260420T100022
CREATED:20200625T180012Z
LAST-MODIFIED:20200625T180012Z
UID:2321-1594400400-1594411200@www.zieglerwinery.com
SUMMARY:Sam Grady
DESCRIPTION:
URL:https://www.zieglerwinery.com/event/sam-grady/
ATTACH;FMTTYPE=image/jpeg:https://www.zieglerwinery.com/wp-content/uploads/2020/06/33849807_1777484435631666_2795441582713602048_n.jpg
END:VEVENT
BEGIN:VEVENT
DTSTART;TZID=America/Chicago:20200710T160000
DTEND;TZID=America/Chicago:20200710T190000
DTSTAMP:20260420T100022
CREATED:20200625T181743Z
LAST-MODIFIED:20200625T181743Z
UID:2326-1594396800-1594407600@www.zieglerwinery.com
SUMMARY:Fish Fry with The Chameleon
DESCRIPTION:Join us for a famous Friday night fish fry with the Chameleon Food truck. We will have music to top off the evening! You can also take to go! (Along with some wine:)
URL:https://www.zieglerwinery.com/event/fish-fry-with-the-chameleon/
ATTACH;FMTTYPE=image/jpeg:https://www.zieglerwinery.com/wp-content/uploads/2020/06/100747063_547589639453383_494017510731939840_n.jpg
END:VEVENT
BEGIN:VEVENT
DTSTART;TZID=America/Chicago:20200704T150000
DTEND;TZID=America/Chicago:20200704T180000
DTSTAMP:20260420T100022
CREATED:20200326T143103Z
LAST-MODIFIED:20200629T184256Z
UID:2111-1593874800-1593885600@www.zieglerwinery.com
SUMMARY:Ziegler's Winery July 4th Celebration w/ Cody Earl Band
DESCRIPTION:Join Us to celebrate July 4th with the Cody Earl Band! The band plays a variety of music from Country to Rock and some blues. In addition to the covers they play\, Cody is a songwriter as well as a singer and they perform many of his originals. We will be serving up pulled pork sandwiches with Eden Meat Market boneless pork roast. Join us for some great music\, wine craft beer and food!
URL:https://www.zieglerwinery.com/event/zieglers-winery-july-4th-celebration/
ATTACH;FMTTYPE=image/jpeg:https://www.zieglerwinery.com/wp-content/uploads/2020/03/82343950_2926060900846375_4297678506990501888_o.jpg
END:VEVENT
BEGIN:VEVENT
DTSTART;TZID=America/Chicago:20200607T130000
DTEND;TZID=America/Chicago:20200607T160000
DTSTAMP:20260420T100022
CREATED:20200527T183041Z
LAST-MODIFIED:20200527T183041Z
UID:2235-1591534800-1591545600@www.zieglerwinery.com
SUMMARY:Jazz with Ginny
DESCRIPTION:
URL:https://www.zieglerwinery.com/event/jazz-with-ginny/
END:VEVENT
BEGIN:VEVENT
DTSTART;TZID=America/Chicago:20200501T150000
DTEND;TZID=America/Chicago:20200501T180000
DTSTAMP:20260420T100022
CREATED:20200516T031924Z
LAST-MODIFIED:20210317T015421Z
UID:2215-1588345200-1588356000@www.zieglerwinery.com
SUMMARY:Fred Ferguson
DESCRIPTION:Fred plays a wide variety of old rock\, country\, and some requests. He loves to have fun with the crowd and will provide an enjoyable afternoon of wine\, beer\, food and music!
URL:https://www.zieglerwinery.com/event/fred-fergusen/
ATTACH;FMTTYPE=image/jpeg:https://www.zieglerwinery.com/wp-content/uploads/2020/05/IMG_265811.jpg
END:VEVENT
END:VCALENDAR