BEGIN:VCALENDAR
VERSION:2.0
PRODID:-//Ziegler Winery - ECPv6.15.20//NONSGML v1.0//EN
CALSCALE:GREGORIAN
METHOD:PUBLISH
X-WR-CALNAME:Ziegler Winery
X-ORIGINAL-URL:https://www.zieglerwinery.com
X-WR-CALDESC:Events for Ziegler Winery
REFRESH-INTERVAL;VALUE=DURATION:PT1H
X-Robots-Tag:noindex
X-PUBLISHED-TTL:PT1H
BEGIN:VTIMEZONE
TZID:America/Chicago
BEGIN:DAYLIGHT
TZOFFSETFROM:-0600
TZOFFSETTO:-0500
TZNAME:CDT
DTSTART:20240310T080000
END:DAYLIGHT
BEGIN:STANDARD
TZOFFSETFROM:-0500
TZOFFSETTO:-0600
TZNAME:CST
DTSTART:20241103T070000
END:STANDARD
BEGIN:DAYLIGHT
TZOFFSETFROM:-0600
TZOFFSETTO:-0500
TZNAME:CDT
DTSTART:20250309T080000
END:DAYLIGHT
BEGIN:STANDARD
TZOFFSETFROM:-0500
TZOFFSETTO:-0600
TZNAME:CST
DTSTART:20251102T070000
END:STANDARD
BEGIN:DAYLIGHT
TZOFFSETFROM:-0600
TZOFFSETTO:-0500
TZNAME:CDT
DTSTART:20260308T080000
END:DAYLIGHT
BEGIN:STANDARD
TZOFFSETFROM:-0500
TZOFFSETTO:-0600
TZNAME:CST
DTSTART:20261101T070000
END:STANDARD
END:VTIMEZONE
BEGIN:VEVENT
DTSTART;TZID=America/Chicago:20250726T143000
DTEND;TZID=America/Chicago:20250726T173000
DTSTAMP:20260421T030218
CREATED:20240627T191027Z
LAST-MODIFIED:20250726T142251Z
UID:3612-1753540200-1753551000@www.zieglerwinery.com
SUMMARY:Kip Jones
DESCRIPTION:Help us welcome back a local favorite-Kip Jones! Kip plays a wide variety of covers and requests and always gets the crowd going!
URL:https://www.zieglerwinery.com/event/kip-jones-4/
LOCATION:Ziegler Winery\, W3953 Winnebago Heights Road\, Malone\, WI\, 53049\, United States
END:VEVENT
END:VCALENDAR