BEGIN:VCALENDAR
VERSION:2.0
PRODID:-//Ziegler Winery - ECPv6.15.20//NONSGML v1.0//EN
CALSCALE:GREGORIAN
METHOD:PUBLISH
X-ORIGINAL-URL:https://www.zieglerwinery.com
X-WR-CALDESC:Events for Ziegler Winery
REFRESH-INTERVAL;VALUE=DURATION:PT1H
X-Robots-Tag:noindex
X-PUBLISHED-TTL:PT1H
BEGIN:VTIMEZONE
TZID:America/Chicago
BEGIN:DAYLIGHT
TZOFFSETFROM:-0600
TZOFFSETTO:-0500
TZNAME:CDT
DTSTART:20220313T080000
END:DAYLIGHT
BEGIN:STANDARD
TZOFFSETFROM:-0500
TZOFFSETTO:-0600
TZNAME:CST
DTSTART:20221106T070000
END:STANDARD
BEGIN:DAYLIGHT
TZOFFSETFROM:-0600
TZOFFSETTO:-0500
TZNAME:CDT
DTSTART:20230312T080000
END:DAYLIGHT
BEGIN:STANDARD
TZOFFSETFROM:-0500
TZOFFSETTO:-0600
TZNAME:CST
DTSTART:20231105T070000
END:STANDARD
BEGIN:DAYLIGHT
TZOFFSETFROM:-0600
TZOFFSETTO:-0500
TZNAME:CDT
DTSTART:20240310T080000
END:DAYLIGHT
BEGIN:STANDARD
TZOFFSETFROM:-0500
TZOFFSETTO:-0600
TZNAME:CST
DTSTART:20241103T070000
END:STANDARD
END:VTIMEZONE
BEGIN:VEVENT
DTSTART;TZID=America/Chicago:20230217T170000
DTEND;TZID=America/Chicago:20230217T200000
DTSTAMP:20260425T093634
CREATED:20230214T233039Z
LAST-MODIFIED:20230214T233039Z
UID:3125-1676653200-1676664000@www.zieglerwinery.com
SUMMARY:St Patrick's Day Irish Music
DESCRIPTION:Join Jeff (our expert wine barkeep :)) and friends while they get you in the Irish spirit! We will be serving up some St. Patty’s themed tasty drinks!
URL:https://www.zieglerwinery.com/event/st-patricks-day-irish-music/
ATTACH;FMTTYPE=image/jpeg:https://www.zieglerwinery.com/wp-content/uploads/2023/02/istockphoto-1132567007-1024x1024-1.jpg
END:VEVENT
END:VCALENDAR