BEGIN:VCALENDAR
VERSION:2.0
PRODID:-//Ziegler Winery - ECPv6.15.20//NONSGML v1.0//EN
CALSCALE:GREGORIAN
METHOD:PUBLISH
X-ORIGINAL-URL:https://www.zieglerwinery.com
X-WR-CALDESC:Events for Ziegler Winery
REFRESH-INTERVAL;VALUE=DURATION:PT1H
X-Robots-Tag:noindex
X-PUBLISHED-TTL:PT1H
BEGIN:VTIMEZONE
TZID:America/Chicago
BEGIN:DAYLIGHT
TZOFFSETFROM:-0600
TZOFFSETTO:-0500
TZNAME:CDT
DTSTART:20220313T080000
END:DAYLIGHT
BEGIN:STANDARD
TZOFFSETFROM:-0500
TZOFFSETTO:-0600
TZNAME:CST
DTSTART:20221106T070000
END:STANDARD
BEGIN:DAYLIGHT
TZOFFSETFROM:-0600
TZOFFSETTO:-0500
TZNAME:CDT
DTSTART:20230312T080000
END:DAYLIGHT
BEGIN:STANDARD
TZOFFSETFROM:-0500
TZOFFSETTO:-0600
TZNAME:CST
DTSTART:20231105T070000
END:STANDARD
BEGIN:DAYLIGHT
TZOFFSETFROM:-0600
TZOFFSETTO:-0500
TZNAME:CDT
DTSTART:20240310T080000
END:DAYLIGHT
BEGIN:STANDARD
TZOFFSETFROM:-0500
TZOFFSETTO:-0600
TZNAME:CST
DTSTART:20241103T070000
END:STANDARD
END:VTIMEZONE
BEGIN:VEVENT
DTSTART;TZID=America/Chicago:20230211T150000
DTEND;TZID=America/Chicago:20230211T180000
DTSTAMP:20260425T053615
CREATED:20200909T174927Z
LAST-MODIFIED:20230117T024103Z
UID:2435-1676127600-1676138400@www.zieglerwinery.com
SUMMARY:Andy Braun
DESCRIPTION:Andy Braun is a singer/songwriter with a folk-rock feel. He plays a wide variety of cover songs as well as insightful originals. A sampling of what you’ll hear at an Andy Braun show: Johnny Cash\, CCR\, Neil Young\, Jimmy Buffett\, Beatles\, Tom Petty\, Eagles\, and more!
URL:https://www.zieglerwinery.com/event/live-music-w-andy-braun/
ATTACH;FMTTYPE=image/jpeg:https://www.zieglerwinery.com/wp-content/uploads/2020/09/Andy-Braun-Music.jpg
END:VEVENT
END:VCALENDAR