BEGIN:VCALENDAR
VERSION:2.0
PRODID:-//Ziegler Winery - ECPv6.15.20//NONSGML v1.0//EN
CALSCALE:GREGORIAN
METHOD:PUBLISH
X-WR-CALNAME:Ziegler Winery
X-ORIGINAL-URL:https://www.zieglerwinery.com
X-WR-CALDESC:Events for Ziegler Winery
REFRESH-INTERVAL;VALUE=DURATION:PT1H
X-Robots-Tag:noindex
X-PUBLISHED-TTL:PT1H
BEGIN:VTIMEZONE
TZID:America/Chicago
BEGIN:DAYLIGHT
TZOFFSETFROM:-0600
TZOFFSETTO:-0500
TZNAME:CDT
DTSTART:20210314T080000
END:DAYLIGHT
BEGIN:STANDARD
TZOFFSETFROM:-0500
TZOFFSETTO:-0600
TZNAME:CST
DTSTART:20211107T070000
END:STANDARD
BEGIN:DAYLIGHT
TZOFFSETFROM:-0600
TZOFFSETTO:-0500
TZNAME:CDT
DTSTART:20220313T080000
END:DAYLIGHT
BEGIN:STANDARD
TZOFFSETFROM:-0500
TZOFFSETTO:-0600
TZNAME:CST
DTSTART:20221106T070000
END:STANDARD
BEGIN:DAYLIGHT
TZOFFSETFROM:-0600
TZOFFSETTO:-0500
TZNAME:CDT
DTSTART:20230312T080000
END:DAYLIGHT
BEGIN:STANDARD
TZOFFSETFROM:-0500
TZOFFSETTO:-0600
TZNAME:CST
DTSTART:20231105T070000
END:STANDARD
END:VTIMEZONE
BEGIN:VEVENT
DTSTART;TZID=America/Chicago:20220828T140000
DTEND;TZID=America/Chicago:20220828T170000
DTSTAMP:20260423T040949
CREATED:20220721T032147Z
LAST-MODIFIED:20220721T032147Z
UID:2981-1661695200-1661706000@www.zieglerwinery.com
SUMMARY:Royal South
DESCRIPTION:Individual artists in their own right\, SaraBeth and Glen Mitchell have come together to form the harmony powerhouse Royal South.  Based in Nashville\, Tennessee\, the Texas and London natives have attracted the attention of renowned producer\, Paul Worley\, who produced the Dixie Chicks\, Lady Antebellum\, The Band Perry\, and Martina McBride to name a few.   \nTheir most recent release\, “Perfect on Paper” became Royal South’s 5th consecutive #1 iTunes single and hit the charts in six countries.  This is possible because of the band’s fiercely loyal social media following with over 400\,000 followers between them! \nThey’re currently in the studio with Paul working on new music.  With chart-topping songs\, Grand Ole Opry performances\, industry awards\, and world tours between them\, Royal South gives every audience a dynamic\, unforgettable show.
URL:https://www.zieglerwinery.com/event/royal-south/
ATTACH;FMTTYPE=image/jpeg:https://www.zieglerwinery.com/wp-content/uploads/2022/07/Royal-South.jpg
END:VEVENT
END:VCALENDAR